BEGIN:VCALENDAR
VERSION:2.0
PRODID:-//Che-Vanno - ECPv6.15.16//NONSGML v1.0//EN
CALSCALE:GREGORIAN
METHOD:PUBLISH
X-WR-CALNAME:Che-Vanno
X-ORIGINAL-URL:https://www.chevanno.nl
X-WR-CALDESC:Evenementen voor Che-Vanno
REFRESH-INTERVAL;VALUE=DURATION:PT1H
X-Robots-Tag:noindex
X-PUBLISHED-TTL:PT1H
BEGIN:VTIMEZONE
TZID:UTC
BEGIN:STANDARD
TZOFFSETFROM:+0000
TZOFFSETTO:+0000
TZNAME:UTC
DTSTART:20180101T000000
END:STANDARD
END:VTIMEZONE
BEGIN:VEVENT
DTSTART;TZID=UTC:20231222T200000
DTEND;TZID=UTC:20231222T220000
DTSTAMP:20260424T211930
CREATED:20231207T191650Z
LAST-MODIFIED:20231207T191650Z
UID:37060-1703275200-1703282400@www.chevanno.nl
SUMMARY:Kerstconcert door Ikk Immanuël te Lunteren
DESCRIPTION:Kerstconcert in de Oude Kerk te Lunteren \nAanvang 20:00 uur (deur open om 19:30 uur) \nToegang gratis – Collecte t.b.v. de onkosten \n  \nMet medewerking van: \n\nStrijkersensemble Che Vanno o.l.v. Chloë Elsenaar\nEvelyn Heuvelmans – hobo\nHarry van Leeuwen – orgel\nGerwin van der Plaats – algehele leiding en piano
URL:https://www.chevanno.nl/agenda/kerstconcert-door-ikk-immanuel-te-lunteren/
CATEGORIES:Begeleiding,christelijk,concert,Contrabas,Geestelijk,Kerst,kerstfeest,koren,strijkensemble,strijkers,violen,viool
ATTACH;FMTTYPE=image/jpeg:https://www.chevanno.nl/wp-content/uploads/2023/11/2023-12-22-Lunteren-Poster-scaled.jpg
END:VEVENT
BEGIN:VEVENT
DTSTART;TZID=UTC:20231222T200000
DTEND;TZID=UTC:20231222T220000
DTSTAMP:20260424T211930
CREATED:20230225T174006Z
LAST-MODIFIED:20230225T174006Z
UID:16421-1703275200-1703282400@www.chevanno.nl
SUMMARY:Kerstconcert Ikk Immanuel Harskamp
DESCRIPTION:Kerstconcert in de Oude Kerk te Lunteren \n(info volgt) \n  \n  \n  \nMet medewerking van: \n\nStrijkersensemble Che-Vanno o.l.v. Chloë Elsenaar\nHarry van Leeuwen – orgel\nGerwin van der Plaats – algehele leiding en piano
URL:https://www.chevanno.nl/agenda/kerstconcert-ikk-immanuel-harskamp/
CATEGORIES:Begeleiding,Cello,christelijk,concert,Contrabas,Geestelijk,Kerst,koren,strijkensemble,strijkers,violen,viool
ATTACH;FMTTYPE=image/jpeg:https://www.chevanno.nl/wp-content/uploads/2023/02/Koorfoto-1.jpg
END:VEVENT
BEGIN:VEVENT
DTSTART;TZID=UTC:20231208T190000
DTEND;TZID=UTC:20231208T223000
DTSTAMP:20260424T211930
CREATED:20231207T185839Z
LAST-MODIFIED:20231207T185839Z
UID:47108-1702062000-1702074600@www.chevanno.nl
SUMMARY:Kerstconcert Musica Religiosa
DESCRIPTION:Kerstconcert Kleinkoor ‘Musica Religiosa’ \nStrijkensemble ‘Che Vanno’\nJan-Willem ’t Hart\, solist\nNoortje van Middelkoop\, panfluit & accordeon\nHarry van Leeuwen\, orgel\nGerwin van der Plaats\, algehele leiding & piano
URL:https://www.chevanno.nl/agenda/kerstconcert-musica-religiosa/
CATEGORIES:Begeleiding,christelijk,concert,Geestelijk,Kerst,kerstfeest,strijkensemble,strijkers,violen,viool
ATTACH;FMTTYPE=image/jpeg:https://www.chevanno.nl/wp-content/uploads/2023/11/2023-12-08-Kampen-scaled.jpg
END:VEVENT
BEGIN:VEVENT
DTSTART;TZID=UTC:20231028T193000
DTEND;TZID=UTC:20231028T213000
DTSTAMP:20260424T211930
CREATED:20230225T172547Z
LAST-MODIFIED:20231014T172523Z
UID:16417-1698521400-1698528600@www.chevanno.nl
SUMMARY:Jubileumconcert ASAF Dedemsvaart
DESCRIPTION:Zaterdag 28 oktober 2023 – JUBILEUMCONCERT ASAF\nLocatie: PG De Antenne Wilhelminastraat 3 te Dedemsvaart.\nAanvang: 19.30 uur \nPiano – Johan Bredewout\nOrgel – Henk van der Maten \nStrijkensemble – Che-Vanno \nJorrit Woudt – algehele leiding en dirigent Asaf \nU hoort nog van ons op welke wijze wij het jubileumconcert gaan invullen.
URL:https://www.chevanno.nl/agenda/jubileumconcert-asaf-dedemsvaart/
CATEGORIES:Begeleiding,Cello,christelijk,concert,Contrabas,Geestelijk,Jubileumconcert,koren,strijkensemble,strijkers,violen,viool
ATTACH;FMTTYPE=image/jpeg:https://www.chevanno.nl/wp-content/uploads/2023/02/facebook_1697303799228_7119008114319967523.jpg
END:VEVENT
BEGIN:VEVENT
DTSTART;TZID=UTC:20230624T200000
DTEND;TZID=UTC:20230624T223000
DTSTAMP:20260424T211930
CREATED:20230203T142010Z
LAST-MODIFIED:20230225T164515Z
UID:16362-1687636800-1687645800@www.chevanno.nl
SUMMARY:Messiah in Amersfoort met Kol Sjariem
DESCRIPTION:Het reformatorisch kleinkoor Kol-Sjariem zingt de Messiah van Händel . Kol-Sjariem is een regionaal koor\, dat is opgericht in september 1991 en ongeveer 25 leden telt. Kol-Sjariem is Hebreeuws en betekent: “Stem der zangers” Sinds mei 2000 staat het koor onder leiding van Martien van der Zwan uit Alphen aan den Rijn. Kol-Sjariem concentreert zich op het zingen van voornamelijk klassieke koorwerken. Ieder jaar worden diverse uitvoeringen gegeven\, waaronder ons traditionele Adventsconcert. Ook wordt er op avonden gezongen ten bate van verschillende goede doelen.
URL:https://www.chevanno.nl/agenda/messiah-in-amersfoort-met-kol-sjariem/
LOCATION:Nieuwe Kerk\, Amersfoort\, Nederland
CATEGORIES:Begeleiding,Cello,christelijk,concert,Contrabas,evenementen,Geestelijk,Klassiek,koren,strijkensemble,strijkers,violen,viool
ATTACH;FMTTYPE=application/pdf:https://www.chevanno.nl/wp-content/uploads/2023/02/Uitnodiging-tenoren-en-bassen.pdf
END:VEVENT
BEGIN:VEVENT
DTSTART;TZID=UTC:20230603T200000
DTEND;TZID=UTC:20230603T220000
DTSTAMP:20260424T211930
CREATED:20230203T160624Z
LAST-MODIFIED:20230225T165826Z
UID:16369-1685822400-1685829600@www.chevanno.nl
SUMMARY:"Met Hart en Stem" in Lunteren
DESCRIPTION:Het Gemengd koor “Met Hart en Stem” (Veenendaal) geeft een concert in Lunteren.\n\n\n\n\n\nDit koor van de Gereformeerde Gemeente te Veenendaal is opgericht in 1975 en telt ruim 80 leden in de leeftijd van 15 tot 89 jaar. Het koor zingt psalmen en geestelijke liederen.Dit alles onder de muzikale leiding van Arie Kortleven die het koor dirigeert
URL:https://www.chevanno.nl/agenda/met-hart-en-stem-in-lunteren/
CATEGORIES:Begeleiding,Cello,christelijk,Contrabas,Geestelijk,koren,strijkensemble,strijkers,violen,viool
ATTACH;FMTTYPE=image/png:https://www.chevanno.nl/wp-content/uploads/2023/02/logo.png
END:VEVENT
BEGIN:VEVENT
DTSTART;TZID=UTC:20230422T200000
DTEND;TZID=UTC:20230422T220000
DTSTAMP:20260424T211930
CREATED:20221011T172728Z
LAST-MODIFIED:20230320T162712Z
UID:16208-1682193600-1682200800@www.chevanno.nl
SUMMARY:Oranjeconcert met mannenkoor Ailanthus
DESCRIPTION:Mannenkoor Ailanthus\n\n\n\n\n\n\n\n\n\n\n\n22 April is het eindelijk weer zover! Een nieuw Oranje Jubileum Concert\, wederom een feestelijke maar ook één met een traan….\n\n\nWe bestaan dit seizoen 12\,5 jaar onder leiding van onze dirigent Geurt Souman. Helaas moet onze dirigent Geurt Souman afscheid nemen en daarom maken we er samen nog één keer een geweldig mooi feestconcert van met vele oude christelijke maar ook veel oude feestnummers (zie filmpje).\n\n\nGeurt zal het stokje na dit concert overdragen aan Marco Hoorn waarover later meer.\n\n\nVoor nu: reserveer 22 april in je agenda aanvang 19:30 uur!\nMusici:\nGezinus Veldman (Vleugel)\nWilleke v.d. Bosch (dwarsfluit)\nMaurice van Dijk (trompet)\nChe-Vanno o.l.v. Chloë Elsenaar (vioolkwartet)\nEvan Boogerd (Orgel)\nJeroen Rekke (contrabas)\nAlgehele leiding: Geurt Souman & Marco Hoorn
URL:https://www.chevanno.nl/agenda/oranjeconcert-met-mannenkoor-ailanthus/
CATEGORIES:Begeleiding,Cello,christelijk,concert,evenementen,Geestelijk,Jubileumconcert,koren,strijkensemble,strijkers,violen,viool
ATTACH;FMTTYPE=application/pdf:https://www.chevanno.nl/wp-content/uploads/2022/10/oranjeconcert-ailanthus-2023-Poster.pdf
END:VEVENT
BEGIN:VEVENT
DTSTART;TZID=UTC:20230401T193000
DTEND;TZID=UTC:20230401T213000
DTSTAMP:20260424T211930
CREATED:20230123T213307Z
LAST-MODIFIED:20230221T200216Z
UID:16338-1680377400-1680384600@www.chevanno.nl
SUMMARY:Paasconcert in Rijssen
DESCRIPTION:Locatie: Schildkerk\,\nAdres: Schild 8 in Rijssen\nAanvang: 19.30 uur  | Inloop: 19.00 uur
URL:https://www.chevanno.nl/agenda/paasconcert-in-rijssen/
CATEGORIES:Begeleiding,Cello,christelijk,concert,Geestelijk,Pasen,strijkensemble,strijkers,viool
ATTACH;FMTTYPE=image/jpeg:https://www.chevanno.nl/wp-content/uploads/2023/01/poster.jpg
END:VEVENT
BEGIN:VEVENT
DTSTART;TZID=UTC:20230331T200000
DTEND;TZID=UTC:20230331T220000
DTSTAMP:20260424T211930
CREATED:20230203T162255Z
LAST-MODIFIED:20230221T195359Z
UID:16371-1680292800-1680300000@www.chevanno.nl
SUMMARY:Gereformeerd Drachtster Mannenkoor in Drachten
DESCRIPTION:In de kerk ‘de Fontein’\n\nVerdere informatie volgt. \no.l.v. Minne Veldman \nThom Mollinga\, solist\nTina Draadjes\, viool\nMyrthe van der Mullen\, viool\nGabriel Torner Alsina\, altviool\nMyrthe van Hulst\, cello\nGeert Pfeiffer\, contrabas\nErica Vogel\, fluit\nDiana Abspoel\, hobo\nMaurice van Dijk\, trompet\nCor Ploeg\, orgel\nLaurence Fierens\, piano\nBen Kruitbosch\, lector
URL:https://www.chevanno.nl/agenda/gereformeerd-drachtster-mannenkoor-in-drachten/
CATEGORIES:Begeleiding,christelijk,concert,Contrabas,Geestelijk,strijkensemble,strijkers,violen,viool
ATTACH;FMTTYPE=image/png:https://www.chevanno.nl/wp-content/uploads/2023/02/poster.png
END:VEVENT
BEGIN:VEVENT
DTSTART;TZID=UTC:20221215T200000
DTEND;TZID=UTC:20221215T220000
DTSTAMP:20260424T211930
CREATED:20221011T171519Z
LAST-MODIFIED:20221128T142127Z
UID:16205-1671134400-1671141600@www.chevanno.nl
SUMMARY:Kerstconcert Maartenskerk in Doorn
DESCRIPTION:Op donderdag 15 december geeft Oriolus een prachtig kerstconcert in de Maartenskerk van Doorn.\nHet wordt een zeer gevarieerd programma met voor de pauze kerst – classics\, internationale\nChristmas Carols gezongen in het Scandinavisch\, Pools\, Frans\, Engels en Duits en zingen we ook\nNederlandse kerstliederen.\nNa de pauze zingen we de cantate The Road to Bethlehem van L. Larson en sluiten we af met\nA Messiah Suite van Tom Fettke. Solist tijdens dit concert is de twaalfjarige Annemijn van ’t\nHullenaar. Andere medewerkenden zijn Jan Lenselink piano\, Mark Wester slagwerk\, Daniëlle van\nLaar fluit en Che Vanno strijkersensemble. De algehele muzikale leiding is in handen van dirigent\nAndré van Vliet. Aanvang 20.00 uur\, de kerk is open vanaf 19.30 uur. Toegangskaarten zijn\nverkrijgbaar via de website. Van harte welkom! \nBestel nu uw concertkaarten!! \n 
URL:https://www.chevanno.nl/agenda/kerstconcert-maartenskerk-in-doorn/
CATEGORIES:Begeleiding,Cello,christelijk,concert,Contrabas,Geestelijk,Kerst,kerstfeest,koren,Piano,strijkensemble,strijkers,violen,viool
ATTACH;FMTTYPE=image/jpeg:https://www.chevanno.nl/wp-content/uploads/2022/10/Flyer-15-dec_2022-Doorn.jpg
END:VEVENT
BEGIN:VEVENT
DTSTART;TZID=UTC:20221214T193000
DTEND;TZID=UTC:20221214T213000
DTSTAMP:20260424T211930
CREATED:20221011T165945Z
LAST-MODIFIED:20221129T193123Z
UID:16203-1671046200-1671053400@www.chevanno.nl
SUMMARY:Kerstconcert Ommer Mannenkoor
DESCRIPTION:Kerstconcert 2022 \nM.m.v. het quartet Che-Vanno: \n\nChloë Elsenaar(V1)\nTina Draadjer(V2)\nGabriël Torner Alsina(alt)\nWise de rijk(cello)\nZij bespelen de instrumenten (“Ferryman Strings”) gebouwd door ons koorlid Gerrit Veerman (een wereldprimeur!)\nFrank van Elburg (Trompet)
URL:https://www.chevanno.nl/agenda/kerstconcert-ommer-mannenkoor/
LOCATION:Gereformeerde kerk\, Bouwstraat 17\, Ommen\, Overijssel\, 7731CP\, Nederland
CATEGORIES:Advent,Begeleiding,Cello,christelijk,concert,Contrabas,Geestelijk,Kerst,kerstfeest,Ommen,strijkensemble,strijkers,TV opnames,violen,viool
ATTACH;FMTTYPE=image/jpeg:https://www.chevanno.nl/wp-content/uploads/2022/10/poster-scaled.jpg
END:VEVENT
BEGIN:VEVENT
DTSTART;TZID=UTC:20221126T200000
DTEND;TZID=UTC:20221126T220000
DTSTAMP:20260424T211930
CREATED:20221011T164727Z
LAST-MODIFIED:20221011T164805Z
UID:16199-1669492800-1669500000@www.chevanno.nl
SUMMARY:Instrumentaal concert bij Kaarslicht inMoordrecht
DESCRIPTION:Zaterdag 26 november 2022 om 20:00 uur zal er weer een instrumentale spektakel zijn in de Dorpskerk van Moordrecht. Twee jaar hebben we moeten wachten en nu hopen dat het door kan gaan. Musici en organisator hebben er in ieder geval zin in. Wij hopen dat er velen deze avond komen. Het is nl. ook een bijzondere avond. Waarom? Noud dit najaar bestaat de gemeente Zuidplas 12\,5 jaar. In 2020 zouden we eigenlijk dit concert organiseren. Helaas ging dit niet door en is de CD Flying Eagle Concert opgenomen met o.a. Vier seizoenen in Zuidplas van Jan Peter Teeuw. \nWe willen het publiek nu live kennis laten maken met dit bijzondere muziekstuk speciaal voor Zuidplas geschreven. Ook zal er nieuwe muziek in première gaan wat eigenlijk voor concert van 2021 was geschreven. Thema en variaties Flying Eagle van Jan Peter Teeuw voor orgel\, vleugel en dwarsfluit. Naast dit alles nog vele andere mooie muziek van klassiek\, populair tot filmmuziek. Dit alles onder de brandende kaarslicht van de Dorpskerk. \nDe musici van deze avond zijn \n\nAndré van Vliet vleugel\nChloë Elsenaar viool\nJaap Klootwijk percussie\nMarije Weenink dwarsfluit\nMarco den Toom orgel\nNils Juijn contrabas
URL:https://www.chevanno.nl/agenda/instrumentaal-concert-bij-kaarslicht-inmoordrecht/
CATEGORIES:christelijk,concert,Contrabas,Geestelijk,Piano,strijkers,viool
ATTACH;FMTTYPE=application/pdf:https://www.chevanno.nl/wp-content/uploads/2022/10/2210406-FE-Poster-2.pdf
END:VEVENT
BEGIN:VEVENT
DTSTART;TZID=UTC:20221119T200000
DTEND;TZID=UTC:20221119T220000
DTSTAMP:20260424T211930
CREATED:20221011T144320Z
LAST-MODIFIED:20221011T144320Z
UID:16195-1668888000-1668895200@www.chevanno.nl
SUMMARY:Na jaarsconcert van Mannenkoor Euterpe
DESCRIPTION:Najaarsconcert 2022\nMannenkoor Euterpe geeft op 19 november een Najaarsconcert in de Gereformeerde kerk van Voorthuizen. \n  \n\nGerwin van der Plaats\, dirigent\nBegeleidingsensemble Che-Vanno\nEvelyn Heuvelmans\, hobo\nArjan Breukhoven\, orgel
URL:https://www.chevanno.nl/agenda/na-jaarsconcert-van-mannenkoor-euterpe/
CATEGORIES:Begeleiding,Cello,christelijk,concert,Contrabas,Geestelijk,koren,Piano,strijkensemble,strijkers,violen,viool
ATTACH;FMTTYPE=image/jpeg:https://www.chevanno.nl/wp-content/uploads/2022/10/2022-11-19-Euterpe-1448x2048-Poster.jpg
END:VEVENT
BEGIN:VEVENT
DTSTART;TZID=UTC:20221028T200000
DTEND;TZID=UTC:20221028T220000
DTSTAMP:20260424T211930
CREATED:20221011T143031Z
LAST-MODIFIED:20221011T143031Z
UID:16190-1666987200-1666994400@www.chevanno.nl
SUMMARY:Concert van het Chr. Drachster Mannenkoor
DESCRIPTION:Het Gereformeerd Drachtster Mannenkoor o.l.v. Minne Veldman geeft een najaarsconcert op vrijdag 28 oktober in De Fontein\, de Kolken 89 te Drachten. \nHet belooft een mooie avond te worden met een bijzonder en afwisselend programma. Als soliste zal Annemet Lems (sopraan) haar medewerking verlenen. De begeleiding zal worden verzorgd door Krista van den Esker (fluit)\, Diana Abspoel (hobo)\, Hrayr Ter- Sargsyan (viool)\, Tina Draadjer (viool). Gabriël Torner Alsina (altviool)\, Gabriël Rodero (cello)\, Daniël Muskitta (contrabas) en Jorrit Woudt (orgel en piano).
URL:https://www.chevanno.nl/agenda/concert-van-het-chr-drachster-mannenkoor/
CATEGORIES:Begeleiding,Cello,christelijk,concert,Contrabas,Geestelijk,koren,strijkensemble,strijkers,violen,viool
ATTACH;FMTTYPE=image/jpeg:https://www.chevanno.nl/wp-content/uploads/2022/10/2022-10-28-Poster.jpg
END:VEVENT
BEGIN:VEVENT
DTSTART;TZID=UTC:20220611T200000
DTEND;TZID=UTC:20220611T220000
DTSTAMP:20260424T211930
CREATED:20220518T131205Z
LAST-MODIFIED:20220518T131205Z
UID:16090-1654977600-1654984800@www.chevanno.nl
SUMMARY:Jubileumconcert CRK Voices Kampen
DESCRIPTION:De strijkers uit het begeleidings ensemble zijn verzorgd door Concert en Organisatie Gerco (C.&O.G.)
URL:https://www.chevanno.nl/agenda/jubileumconcert-crk-voices-kampen/
LOCATION:Kampen\, Kampen
CATEGORIES:Begeleiding,Cello,christelijk,concert,Contrabas,Geestelijk,Jubileumconcert,koren,strijkensemble,strijkers,violen,viool
ATTACH;FMTTYPE=image/jpeg:https://www.chevanno.nl/wp-content/uploads/2022/05/2019-04-07-Foto.jpg
END:VEVENT
BEGIN:VEVENT
DTSTART;TZID=UTC:20211219T150000
DTEND;TZID=UTC:20211219T163000
DTSTAMP:20260424T211930
CREATED:20211206T134631Z
LAST-MODIFIED:20211206T134631Z
UID:11807-1639926000-1639931400@www.chevanno.nl
SUMMARY:Kerstconcert Doorn door Oriolus
DESCRIPTION:‘The Road to Bethlehem’ \nOriolus o.l.v. André van Vliet \nLinda Speulman\, fluit\nAnnemijn van ‘t Hullenaar\, soliste\nMark Wester\, slagwerk\nJan Lenselink\, vleugel\nNils Juijn\, contrabas \nKaarten bestellen via: https://oriolus.nu/
URL:https://www.chevanno.nl/agenda/kerstconcert-doorn-door-oriolus/
LOCATION:Maartenskerk te Doorn\, Kerkplein\, Doorn\, Nederland
CATEGORIES:Advent,Begeleiding,christelijk,concert,Contrabas,Geestelijk,Kerst,kerstfeest,Klassiek,koren,Piano,strijkensemble,strijkers
ATTACH;FMTTYPE=image/jpeg:https://www.chevanno.nl/wp-content/uploads/2021/12/2021-12-19-Poster.jpg
END:VEVENT
BEGIN:VEVENT
DTSTART;TZID=UTC:20211215T200000
DTEND;TZID=UTC:20211215T220000
DTSTAMP:20260424T211930
CREATED:20211102T160307Z
LAST-MODIFIED:20211206T133014Z
UID:1047-1639598400-1639605600@www.chevanno.nl
SUMMARY:Che-Vanno & Ommer Mannenkoor  (Geannuleerd)
DESCRIPTION:KERSTCONCERT 2021 \n \nM.m.v. het quartet Che-Vanno: Chloë Elsenaar(V1)\,Tina Draadje r(V2)\, Ester Potjes (alt) en Wise de Rijk (cello); zij bespelen de instrumenten: “Ferryman Strings” \, gebouwd door ons koorlid Gerrit Veerman (een wereldprimeur!) en trompettist Frank van Elburg. \nGereformeerde Kerk \nBouwstraat 17   Ommen
URL:https://www.chevanno.nl/agenda/che-vanno-ommer-mannenkoor/
CATEGORIES:Advent,Begeleiding,Cello,christelijk,concert,Kerst,kerstfeest,Klassiek,koren,strijkensemble,strijkers,violen,viool
ATTACH;FMTTYPE=image/jpeg:https://www.chevanno.nl/wp-content/uploads/2021/11/Ommer-Mannenkoor2.jpg
END:VEVENT
BEGIN:VEVENT
DTSTART;TZID=UTC:20201003T193000
DTEND;TZID=UTC:20201003T210000
DTSTAMP:20260424T211930
CREATED:20200924T132111Z
LAST-MODIFIED:20200924T132111Z
UID:424-1601753400-1601758800@www.chevanno.nl
SUMMARY:Live-Stream Concert Woudenberg
DESCRIPTION:
URL:https://www.chevanno.nl/agenda/live-stream-concert-woudenberg/
LOCATION:Woudenberg
CATEGORIES:Begeleiding,Cd-Opname,Cello,christelijk,concert,Contrabas,Geestelijk,Klassiek,koren,strijkensemble,strijkers,violen,viool
ATTACH;FMTTYPE=application/pdf:https://www.chevanno.nl/wp-content/uploads/2020/09/2020-10-03-Najaarsconcert2020-Poster-1.pdf
END:VEVENT
BEGIN:VEVENT
DTSTART;TZID=UTC:20200409T200000
DTEND;TZID=UTC:20200409T220000
DTSTAMP:20260424T211930
CREATED:20191229T200634Z
LAST-MODIFIED:20191229T200634Z
UID:286-1586462400-1586469600@www.chevanno.nl
SUMMARY:Passieconcert in Beekbergen
DESCRIPTION:Het APELDOORNS CHRISTELIJK MANNENKOOR geeft het jaarlijkse paasconcert in Beekbergen. \nStrijkensemble Che-Vanno bestaat uit Anouk Meier (Cello)\, Jeltje Quirijnen (Altviool) en 1ste violiste Chloë Elsenaar. \nHet gehele concert staat onder leiding van Jacob Schenk
URL:https://www.chevanno.nl/agenda/passieconcert-in-beekbergen/
CATEGORIES:Begeleiding,Cello,christelijk,concert,Geestelijk,koren,Pasen,strijkensemble,strijkers,violen,viool
ATTACH;FMTTYPE=image/jpeg:https://www.chevanno.nl/wp-content/uploads/2019/12/154.jpg
END:VEVENT
BEGIN:VEVENT
DTSTART;TZID=UTC:20200405T160000
DTEND;TZID=UTC:20200405T180000
DTSTAMP:20260424T211930
CREATED:20191229T194748Z
LAST-MODIFIED:20191229T195948Z
UID:278-1586102400-1586109600@www.chevanno.nl
SUMMARY:Passieconcert in Apeldoorn
DESCRIPTION:Het APELDOORNS CHRISTELIJK MANNENKOOR geeft het jaarlijkse paasconcert in hun eigen woonplaats. \nStrijkensemble Che-Vanno bestaat uit Anouk Meier (Cello)\, Jeltje Quirijnen (Altviool) en 1ste violiste Chloë Elsenaar. \nHet gehele concert staat onder leiding van Jacob Schenk
URL:https://www.chevanno.nl/agenda/passieconcert-in-apeldoorn/
CATEGORIES:Begeleiding,Cello,christelijk,concert,Geestelijk,koren,Pasen,strijkensemble,strijkers,violen,viool
ATTACH;FMTTYPE=image/jpeg:https://www.chevanno.nl/wp-content/uploads/2019/12/135.jpg
END:VEVENT
BEGIN:VEVENT
DTSTART;TZID=UTC:20200201T090000
DTEND;TZID=UTC:20200201T150000
DTSTAMP:20260424T211930
CREATED:20191223T135816Z
LAST-MODIFIED:20191223T135816Z
UID:261-1580547600-1580569200@www.chevanno.nl
SUMMARY:CD-opname in Oudewater
DESCRIPTION:Christelijk Mannenkoor Con Forza neemt hun nieuwe Cd op \nen zal begeleid worden door Che-Vanno. \nHet geheel staat onder leiding van dirigent Willem Nijhof.
URL:https://www.chevanno.nl/agenda/cd-opname-in-oudewater/
LOCATION:Grote kerk\, Noorder Kerkstraat 1\, Oudewater\, 3421AL
CATEGORIES:Begeleiding,Cd-Opname,Cello,christelijk,Contrabas,Geestelijk,koren,strijkensemble,strijkers,violen,viool
ATTACH;FMTTYPE=image/jpeg:https://www.chevanno.nl/wp-content/uploads/2019/12/321.jpg
END:VEVENT
BEGIN:VEVENT
DTSTART;TZID=UTC:20191226T180000
DTEND;TZID=UTC:20191226T213000
DTSTAMP:20260424T211930
CREATED:20191223T134520Z
LAST-MODIFIED:20191223T134520Z
UID:256-1577383200-1577395800@www.chevanno.nl
SUMMARY:Groot Kerstconcert in Rijssen
DESCRIPTION:Vocaal Ensemble de Twente Zangers organiseert dit jaar op 2e kerstdag haar groot kerstconcert. \nMedewerkenden aan dit concert zijn: \nHet Rijssens Mannenkoor \nGezinus Veldman (piano) \nStrijkensemble Che-Vanno
URL:https://www.chevanno.nl/agenda/groot-kerstconcert-in-rijssen/
LOCATION:Parkgebouw\, Oosterhofweg 49\, Rijssen\, 7461BT
CATEGORIES:Begeleiding,Cello,christelijk,concert,Contrabas,Geestelijk,Kerst,kerstfeest,koren,strijkensemble,strijkers,violen,viool
ATTACH;FMTTYPE=image/jpeg:https://www.chevanno.nl/wp-content/uploads/2019/12/Foto-Twentezangers.jpg
END:VEVENT
BEGIN:VEVENT
DTSTART;TZID=UTC:20191224T200000
DTEND;TZID=UTC:20191224T220000
DTSTAMP:20260424T211930
CREATED:20191215T215201Z
LAST-MODIFIED:20191215T215201Z
UID:238-1577217600-1577224800@www.chevanno.nl
SUMMARY:Christmas Classics in Harlingen
DESCRIPTION:Christmas Classics bij baptistengemeente Harlingen\n Vandaag om 15:27 uur\n\n  \n\nHARLINGEN – Drie getalenteerde klassiek geschoolde musici zijn 24 december te beluisteren in de kerstavondspecial Christmas Carols in het geheel opgeknapte kerkgebouw van de baptistengemeente in Harlingen. \n\n\nBezoekers worden vanaf 19.30 uur verwelkomd met kerstmuziek op de piano door Joanne Millenaar. Joanne is een klassiek geschoold pianiste. Ze studeert ‘Docent muziek’ aan het conservatorium in Zwolle. \nOm 20.00 uur begint het officiële kerstprogramma met daarin naast de klassieke composities ook veel ruimte voor de samenzang van traditionele. \nDe werken die door Chloë Elsenaar\, Nadine Blaak en Joanne Millenaar worden \ngespeeld zijn onder andere een Aria uit het Weihnachtsoratorium van J.S. Bach gearrangeerd voor piano en viool. Het bekende ‘For unto us a Child is born’ uit de Messiah van G.F. Händel voor piano en viool en Nocturne in Cis van Chopin. \nDs. René Millenaar verzorgt een korte meditatie over het kerstevangelie
URL:https://www.chevanno.nl/agenda/christmas-classics-in-harlingen/
LOCATION:Harlingen
CATEGORIES:Advent,Begeleiding,christelijk,concert,Geestelijk,Kerst,kerstfeest,Klassiek,viool
ATTACH;FMTTYPE=image/jpeg:https://www.chevanno.nl/wp-content/uploads/2019/11/Poster-kerst-1-scaled.jpg
END:VEVENT
BEGIN:VEVENT
DTSTART;TZID=UTC:20191221T200000
DTEND;TZID=UTC:20191221T220000
DTSTAMP:20260424T211930
CREATED:20191215T213957Z
LAST-MODIFIED:20191215T213957Z
UID:244-1576958400-1576965600@www.chevanno.nl
SUMMARY:Advent met Jongerenkoor Judah in Rijssen
DESCRIPTION:Jongerenkoor Judah  \ngeeft een kerstconcert in de Schildkerk. \nMedewerking door:\nChe-Vanno (Strijkensemble)\nJohanneke Wilbrink (dwarsfluit)\nMarcel van de Ketterij (orgel)\nLaurence Fierens (piano) \no.l.v. Marijn de Jong
URL:https://www.chevanno.nl/agenda/advent-met-jongerenkoor-judah-in-rijssen/
LOCATION:Schildkerk\, Rijssen
CATEGORIES:Advent,Begeleiding,Cello,christelijk,concert,Contrabas,Geestelijk,Kerst,kerstfeest,Klassiek,koren,strijkensemble,strijkers,violen,viool
ATTACH;FMTTYPE=image/jpeg:https://www.chevanno.nl/wp-content/uploads/2019/12/Poster.jpg
END:VEVENT
BEGIN:VEVENT
DTSTART;TZID=UTC:20191220T193000
DTEND;TZID=UTC:20191220T220000
DTSTAMP:20260424T211930
CREATED:20191107T194314Z
LAST-MODIFIED:20191107T194314Z
UID:232-1576870200-1576879200@www.chevanno.nl
SUMMARY:Oriolus in Drieberegen
DESCRIPTION:Op vrijdagavond 20 december geeft Oriolus haar jaarlijkse kerstconcert in de Grote Kerk in Driebergen. \nm.m.v. Marije Weenink – fluit\nGezinus Veldman – vleugel\nHendrie Westra – slagwerk\nChe-Vanno – strijkensemble o.l.v. Chloë Elsenaar \nTijdens dit concert zal Oriolus de cantate Sing Christmas uitvoeren. Met dit prachtige muziekwerk wil Oriolus op muzikale wijze het kerstverhaal vertellen aan een ieder die maar horen wil. U zult zeker een aantal bekende melodieën te horen krijgen die hierin zijn meegenomen. Laat u meevoeren naar Bethlehem\, de plek waar Jezus is geboren en ervaar wat een mooi geschenk wij mensen hebben ontvangen!\nVolgens traditie zingen we naast een cantate een aantal losse nummers. \nDe toegang is € 17\,50 inclusief consumptie. \nWilt u verzekerd zijn van een plaats in de kerk?\nKaarten zijn te bestellen in onze webshop en verkrijgbaar bij Boekhandel Jacques Baas\, Traay 4C in Driebergen \n 
URL:https://www.chevanno.nl/agenda/oriolus-in-drieberegen/
LOCATION:Driebergen\, Driebergen\, utrecht
CATEGORIES:Advent,Begeleiding,Cello,christelijk,concert,Geestelijk,Kerst,kerstfeest,Klassiek,koren,strijkensemble,strijkers,violen,viool
ATTACH;FMTTYPE=image/jpeg:https://www.chevanno.nl/wp-content/uploads/2019/11/Affiche-kerst.jpg
END:VEVENT
BEGIN:VEVENT
DTSTART;TZID=UTC:20191116T193000
DTEND;TZID=UTC:20191116T213000
DTSTAMP:20260424T211930
CREATED:20191011T201921Z
LAST-MODIFIED:20191025T131743Z
UID:217-1573932600-1573939800@www.chevanno.nl
SUMMARY:Che-Vanno ondersteunt in Elburg
DESCRIPTION:Vandaag ondersteunt Anouk van Che-Vanno de \n\nKerst CD-presentatie\n\n19:30 uur in de Grote Kerk te Elburg \n\nM.m.v. Kinderkoor Kinderklanken uit Nunspeet \nMeewerkende koren: \n\nKinderkoor Kinderklanken o.l.v. Hanneke van Tol\nChristelijk Mannenkoor Salvatori o.l.v. Jorrit Woudt
URL:https://www.chevanno.nl/agenda/che-vanno-ondersteunt-in-elburg/
LOCATION:Elburg\, Zuiderkerkstraat 1\, Elburg\, Nederland
CATEGORIES:Begeleiding,Cello,christelijk,concert,Geestelijk,koren,strijkensemble,strijkers
ATTACH;FMTTYPE=image/jpeg:https://www.chevanno.nl/wp-content/uploads/2019/06/DSC01686.jpg
END:VEVENT
BEGIN:VEVENT
DTSTART;TZID=UTC:20191102T200000
DTEND;TZID=UTC:20191102T220000
DTSTAMP:20260424T211930
CREATED:20190223T110511Z
LAST-MODIFIED:20190223T154736Z
UID:152-1572724800-1572732000@www.chevanno.nl
SUMMARY:CD-presentatie Laudate Deum in Lunteren
DESCRIPTION:Groot Jubileumconcert in Lunteren. \nVerdere informatie volgt.
URL:https://www.chevanno.nl/agenda/cd-presentatie-laudate-deum-in-lunteren/
CATEGORIES:Begeleiding,Cello,christelijk,concert,Contrabas,evenementen,Geestelijk,Klassiek,koren,strijkensemble,strijkers,violen,viool
ATTACH;FMTTYPE=image/jpeg:https://www.chevanno.nl/wp-content/uploads/2019/02/2019-11-02-Laudate-Deum-Foto.jpg
END:VEVENT
BEGIN:VEVENT
DTSTART;TZID=UTC:20190525T080000
DTEND;TZID=UTC:20190525T160000
DTSTAMP:20260424T211930
CREATED:20190223T105636Z
LAST-MODIFIED:20190328T203809Z
UID:149-1558771200-1558800000@www.chevanno.nl
SUMMARY:CD-opnamedag in Tiel met Laudate Deum
DESCRIPTION:
URL:https://www.chevanno.nl/agenda/cd-opnamedag-in-tiel-met-laudate-deum/
CATEGORIES:Begeleiding,christelijk,concert,koren,strijkers,violen,viool
ATTACH;FMTTYPE=image/jpeg:https://www.chevanno.nl/wp-content/uploads/2019/02/2019-05-25-Laudate-deum-foto.jpg
END:VEVENT
BEGIN:VEVENT
DTSTART;TZID=UTC:20190430T193000
DTEND;TZID=UTC:20190430T220000
DTSTAMP:20260424T211930
CREATED:20190223T105244Z
LAST-MODIFIED:20190426T184821Z
UID:142-1556652600-1556661600@www.chevanno.nl
SUMMARY:Familiedag concert in Gorinchem
DESCRIPTION:  \n \nFamiliedagen Lente Editie vind plaats ter ere van het 10 jarig bestaan van Familiedagen! Bent u er deze editie ook weer bij? Net zoals eerdere edities staat hier het dagje uit voor families uit de gereformeerde gezindte centraal. Elkaar ontmoeten\, samen winkelen en meedoen met diverse activiteiten\, dit alles in het thema Lente! Doe inspiratie op\, laat u adviseren en volg leuke workshops tijdens één van deze dagen. De vernieuwde pleinen\, diverse podia en het kindervermaak vullen elkaar feilloos aan. Aanwezige branches zijn onder andere: mode\, wonen\, ondernemerschap\, literatuur\, gezondheid\, religie\, ontspanning en muziek. \nBeide dagen is de beurs geopend van 10.00 tot 17.00 uur. Om 17.00 uur sluit de beurs en kunnen de bezoekers én exposanten een hapje eten in ons buffetrestaurant. Om 19.00 uur gaan de deuren open naar het grote podium en kan er worden genoten van een prachtig avondconcert. \nFamiliedagen: Ontmoet\, geniet en ontspan met elkaar. Dit is hét dagje uit voor uw familie.  \n 
URL:https://www.chevanno.nl/agenda/familiedag-concert-in-gorinchem/
CATEGORIES:Begeleiding,Cello,christelijk,concert,evenementen,Geestelijk,koren,strijkers,violen,viool
ATTACH;FMTTYPE=image/jpeg:https://www.chevanno.nl/wp-content/uploads/2019/02/FDLE_Concert_Poster_JPEG.jpg
END:VEVENT
BEGIN:VEVENT
DTSTART;TZID=UTC:20190418T200000
DTEND;TZID=UTC:20190418T220000
DTSTAMP:20260424T211930
CREATED:20190223T102557Z
LAST-MODIFIED:20190223T102557Z
UID:138-1555617600-1555624800@www.chevanno.nl
SUMMARY:Paas en Passieconcert van CRK. Adonai in Waddinxveen
DESCRIPTION:Met medewerking van strijkers van Che-Vanno.
URL:https://www.chevanno.nl/agenda/paas-en-passieconcert-van-crk-adonai-in-waddinxveen/
LOCATION:Ontmoetingskerk Groensvoorde\, waddinxveen
CATEGORIES:Begeleiding,christelijk,concert,koren,Pasen,strijkers,viool
END:VEVENT
END:VCALENDAR