BEGIN:VCALENDAR
VERSION:2.0
PRODID:-//Che-Vanno - ECPv6.15.16//NONSGML v1.0//EN
CALSCALE:GREGORIAN
METHOD:PUBLISH
X-ORIGINAL-URL:https://www.chevanno.nl
X-WR-CALDESC:Evenementen voor Che-Vanno
REFRESH-INTERVAL;VALUE=DURATION:PT1H
X-Robots-Tag:noindex
X-PUBLISHED-TTL:PT1H
BEGIN:VTIMEZONE
TZID:UTC
BEGIN:STANDARD
TZOFFSETFROM:+0000
TZOFFSETTO:+0000
TZNAME:UTC
DTSTART:20200101T000000
END:STANDARD
END:VTIMEZONE
BEGIN:VEVENT
DTSTART;VALUE=DATE:20210828
DTEND;VALUE=DATE:20210829
DTSTAMP:20260425T031037
CREATED:20210610T124443Z
LAST-MODIFIED:20210610T124443Z
UID:800-1630108800-1630195199@www.chevanno.nl
SUMMARY:Bruiloft te Langbroek (Utrecht)
DESCRIPTION:Op zaterdag 28 augustus speelt Che-Vanno met als 1ste violist Chloë Elsenaar op een besloten Bruiloft te Langbroek. Op de ceremonie spelen zij o.a.: \n\n\n\n\n\n\n\n\n\n\n\n\n\na whole new world’ – Alan Menken (Aladin theme)\n Canon in D’ – Johann Pachelbe\n\n\n\n\n\n\n\n\n\n\n\n\n\nDaarnaast spelen wij verschillende nummers uit ons Licht Klassieke repertoire.
URL:https://www.chevanno.nl/agenda/bruiloft-te-langbroek-utrecht/
CATEGORIES:Bruiloft,Cello,Ceremonie,concert,evenementen,Huwelijk,Klassiek,Langbroek,Receptie,strijkensemble,strijkers,Trouwdag,trouwerij,Utrecht,violen,viool
ATTACH;FMTTYPE=image/jpeg:https://www.chevanno.nl/wp-content/uploads/2021/06/2021-08-28-Langbroek-Flyer.jpg
END:VEVENT
BEGIN:VEVENT
DTSTART;VALUE=DATE:20210828
DTEND;VALUE=DATE:20210829
DTSTAMP:20260425T031037
CREATED:20210412T194410Z
LAST-MODIFIED:20210412T194410Z
UID:646-1630108800-1630195199@www.chevanno.nl
SUMMARY:Bruiloft in Utrecht
DESCRIPTION:In een prachtige tuin mag Che-Vanno spelen tijdens de huwelijksceremonie. Zij spelen bekende en minder bekende licht-klassieke nummers. \nAls Trio spelen zij o.l.v. Chloë Elsenaar in een kasteeltuin te Langbroek te Utrecht
URL:https://www.chevanno.nl/agenda/bruiloft-in-utrecht/
CATEGORIES:Bruiloft,Cello,Ceremonie,concert,evenementen,Huwelijk,Klassiek,Receptie,strijkensemble,strijkers,Trouwdag,trouwerij,violen,viool
END:VEVENT
END:VCALENDAR